BEGIN:VCALENDAR
VERSION:2.0
PRODID:-//ICTT - ECPv6.15.17.1//NONSGML v1.0//EN
CALSCALE:GREGORIAN
METHOD:PUBLISH
X-WR-CALNAME:ICTT
X-ORIGINAL-URL:https://ictt.univ-avignon.fr
X-WR-CALDESC:Évènements pour ICTT
REFRESH-INTERVAL;VALUE=DURATION:PT1H
X-Robots-Tag:noindex
X-PUBLISHED-TTL:PT1H
BEGIN:VTIMEZONE
TZID:Europe/Paris
BEGIN:DAYLIGHT
TZOFFSETFROM:+0100
TZOFFSETTO:+0200
TZNAME:CEST
DTSTART:20240331T010000
END:DAYLIGHT
BEGIN:STANDARD
TZOFFSETFROM:+0200
TZOFFSETTO:+0100
TZNAME:CET
DTSTART:20241027T010000
END:STANDARD
BEGIN:DAYLIGHT
TZOFFSETFROM:+0100
TZOFFSETTO:+0200
TZNAME:CEST
DTSTART:20250330T010000
END:DAYLIGHT
BEGIN:STANDARD
TZOFFSETFROM:+0200
TZOFFSETTO:+0100
TZNAME:CET
DTSTART:20251026T010000
END:STANDARD
BEGIN:DAYLIGHT
TZOFFSETFROM:+0100
TZOFFSETTO:+0200
TZNAME:CEST
DTSTART:20260329T010000
END:DAYLIGHT
BEGIN:STANDARD
TZOFFSETFROM:+0200
TZOFFSETTO:+0100
TZNAME:CET
DTSTART:20261025T010000
END:STANDARD
END:VTIMEZONE
BEGIN:VEVENT
DTSTART;TZID=Europe/Paris:20250422T130000
DTEND;TZID=Europe/Paris:20250422T150000
DTSTAMP:20260421T103745
CREATED:20250307T095700Z
LAST-MODIFIED:20250307T095700Z
UID:5930-1745326800-1745334000@ictt.univ-avignon.fr
SUMMARY:Conseil du 22 avril
DESCRIPTION:
URL:https://ictt.univ-avignon.fr/evenement/conseil-du-22-avril/
END:VEVENT
BEGIN:VEVENT
DTSTART;TZID=Europe/Paris:20250424T090000
DTEND;TZID=Europe/Paris:20250424T170000
DTSTAMP:20260421T103745
CREATED:20250411T070324Z
LAST-MODIFIED:20250411T070324Z
UID:6098-1745485200-1745514000@ictt.univ-avignon.fr
SUMMARY:Journée scientifique de l'école doctorale ED 537
DESCRIPTION:Jeudi 24 avril aura lieu la journée scientifique de l’école doctorale 537\, à laquelle appartient notre laboratoire. ICTT est très bien représenté! \nprogramme-Journee-scientifique-de-lEcole-doctorale-537-2025
URL:https://ictt.univ-avignon.fr/evenement/journee-scientifique-de-lecole-doctorale-ed-537/
LOCATION:Salle des thèses\, Avignon Université\, Avignon
END:VEVENT
BEGIN:VEVENT
DTSTART;TZID=Europe/Paris:20250425T140000
DTEND;TZID=Europe/Paris:20250425T160000
DTSTAMP:20260421T103745
CREATED:20250317T081649Z
LAST-MODIFIED:20250317T084322Z
UID:6014-1745589600-1745596800@ictt.univ-avignon.fr
SUMMARY:Circulations théâtrales : le rôle des agentes. 2.
DESCRIPTION:Circulations théâtrales : le rôle des agentes. Webinaire proposé par Nicolas Diassinous (Université d’Avignon) et Corinne François-Denève (Université de Bourgogne). \nNathalie Coutelet (Université Paris 8)\n« Un réseau artistique féminin international : le Lyceum » \nWebinaire — Circulations théâtrales : le rôle des agentes
URL:https://ictt.univ-avignon.fr/evenement/webinaire-circulations-theatrales-le-role-des-agentes-2/
END:VEVENT
BEGIN:VEVENT
DTSTART;TZID=Europe/Paris:20250429T160000
DTEND;TZID=Europe/Paris:20250429T173000
DTSTAMP:20260421T103745
CREATED:20250701T091028Z
LAST-MODIFIED:20250701T091028Z
UID:6151-1745942400-1745947800@ictt.univ-avignon.fr
SUMMARY:Séminaire / le travail du reste: le point de vue de la linguistique / Graham Ranger
DESCRIPTION:
URL:https://ictt.univ-avignon.fr/evenement/seminaire-le-travail-du-reste-le-point-de-vue-de-la-linguistique-graham-ranger/
END:VEVENT
END:VCALENDAR