BEGIN:VCALENDAR
VERSION:2.0
PRODID:-//ICTT - ECPv6.15.17.1//NONSGML v1.0//EN
CALSCALE:GREGORIAN
METHOD:PUBLISH
X-ORIGINAL-URL:https://ictt.univ-avignon.fr
X-WR-CALDESC:Évènements pour ICTT
REFRESH-INTERVAL;VALUE=DURATION:PT1H
X-Robots-Tag:noindex
X-PUBLISHED-TTL:PT1H
BEGIN:VTIMEZONE
TZID:Europe/Paris
BEGIN:DAYLIGHT
TZOFFSETFROM:+0100
TZOFFSETTO:+0200
TZNAME:CEST
DTSTART:20240331T010000
END:DAYLIGHT
BEGIN:STANDARD
TZOFFSETFROM:+0200
TZOFFSETTO:+0100
TZNAME:CET
DTSTART:20241027T010000
END:STANDARD
BEGIN:DAYLIGHT
TZOFFSETFROM:+0100
TZOFFSETTO:+0200
TZNAME:CEST
DTSTART:20250330T010000
END:DAYLIGHT
BEGIN:STANDARD
TZOFFSETFROM:+0200
TZOFFSETTO:+0100
TZNAME:CET
DTSTART:20251026T010000
END:STANDARD
BEGIN:DAYLIGHT
TZOFFSETFROM:+0100
TZOFFSETTO:+0200
TZNAME:CEST
DTSTART:20260329T010000
END:DAYLIGHT
BEGIN:STANDARD
TZOFFSETFROM:+0200
TZOFFSETTO:+0100
TZNAME:CET
DTSTART:20261025T010000
END:STANDARD
END:VTIMEZONE
BEGIN:VEVENT
DTSTART;TZID=Europe/Paris:20250506T080000
DTEND;TZID=Europe/Paris:20250506T170000
DTSTAMP:20260421T121449
CREATED:20250506T113839Z
LAST-MODIFIED:20250506T113839Z
UID:6125-1746518400-1746550800@ictt.univ-avignon.fr
SUMMARY:Spectacles de danse contemporaine
DESCRIPTION:Dans le cadre de sa thèse en recherche-création intitulée Les mots et les gestes : une approche chorégraphique de l’œuvre poétique de Dominique Fourcade\, Valentina Citterio\, doctorante au sein du laboratoire ICTT\, vous invite à découvrir deux créations de danse contemporaine inspirées de l’œuvre poétique de Dominique Fourcade : \n« ps : » une création collective avec huit étudiantes-danseuses d’Avignon Université\n« nel blu » un solo interprété par Valentina Citterio elle-même \nDate et heure : Samedi 17 mai à 20h30\nLieu : Théâtre Episcène\, Avignon \nCe projet est mené en partenariat avec le laboratoire ICTT d’Avignon Université\, le Théâtre Episcène d’Avignon\, la BnF-Maison Jean Vilar (Avignon) et bénéficie du soutien de la Compagnie universitaire de danse [Hannah et Jean-Henri] d’Avignon Université. \nEntrée libre\, réservation chaleureusement conseillée\nscenespoetiques.ps@gmail.com / reservation@episcene.fr\nPour plus d’informations : Lien vers l’événement \nNous espérons vous y voir nombreuses et nombreux !
URL:https://ictt.univ-avignon.fr/evenement/spectacles-de-danse-contemporaine/
END:VEVENT
BEGIN:VEVENT
DTSTART;VALUE=DATE:20250512
DTEND;VALUE=DATE:20250514
DTSTAMP:20260421T121449
CREATED:20250416T190227Z
LAST-MODIFIED:20250430T162739Z
UID:6107-1747008000-1747180799@ictt.univ-avignon.fr
SUMMARY:Les hystériques. Histoire d'un préjugé (1800-1950)
DESCRIPTION:Au cours du XIXe siècle\, l’hystérie prend une place centrale dans la littérature et l’art. Elle devient protagoniste d’une narration qui dépeint les femmes comme constamment insatisfaites : capricieuses et faibles\, instables et dotées d’un désir violent\, ou encore séduisantes et dangereuses\, mythomanes\, menteuses pathologiques... [Informations à suivre.]
URL:https://ictt.univ-avignon.fr/evenement/les-hysteriques-histoire-dun-prejuge-1800-1950/
LOCATION:Avignon Université
END:VEVENT
BEGIN:VEVENT
DTSTART;VALUE=DATE:20250513
DTEND;VALUE=DATE:20250514
DTSTAMP:20260421T121449
CREATED:20250320T090456Z
LAST-MODIFIED:20250506T113353Z
UID:6061-1747094400-1747180799@ictt.univ-avignon.fr
SUMMARY:“L’invitation au voyage” - Le déplacement dans et pour les arts vivants.
DESCRIPTION:Journée d’étude des doctorants. ICTT “L’invitation au voyage” – Le déplacement dans et pour les arts vivants. \n327252_Programme_JE_ICTT_2025
URL:https://ictt.univ-avignon.fr/evenement/linvitation-au-voyage-le-deplacement-dans-et-pour-les-arts-vivants/
LOCATION:Avignon Université
END:VEVENT
BEGIN:VEVENT
DTSTART;TZID=Europe/Paris:20250523T140000
DTEND;TZID=Europe/Paris:20250523T160000
DTSTAMP:20260421T121449
CREATED:20250317T082322Z
LAST-MODIFIED:20250317T084245Z
UID:6019-1748008800-1748016000@ictt.univ-avignon.fr
SUMMARY:Circulations théâtrales : le rôle des agentes. 3.
DESCRIPTION:Flavia Hiroki (Université de Besançon) « Entre Paris et Rio de Janeiro : les personnages théâtraux féminins de Júlia Lopes de Almeida (1862-1934)\, influences théâtrales françaises et construction d’une identité brésilienne dans la Première République au Brésil (1889-1930) » \nWebinaire — Circulations théâtrales : le rôle des agentes
URL:https://ictt.univ-avignon.fr/evenement/webinaire-circulations-theatrales-le-role-des-agentes-3/
END:VEVENT
END:VCALENDAR