BEGIN:VCALENDAR
VERSION:2.0
PRODID:-//ICTT - ECPv6.15.17.1//NONSGML v1.0//EN
CALSCALE:GREGORIAN
METHOD:PUBLISH
X-ORIGINAL-URL:https://ictt.univ-avignon.fr
X-WR-CALDESC:Évènements pour ICTT
REFRESH-INTERVAL;VALUE=DURATION:PT1H
X-Robots-Tag:noindex
X-PUBLISHED-TTL:PT1H
BEGIN:VTIMEZONE
TZID:Europe/Paris
BEGIN:DAYLIGHT
TZOFFSETFROM:+0100
TZOFFSETTO:+0200
TZNAME:CEST
DTSTART:20240331T010000
END:DAYLIGHT
BEGIN:STANDARD
TZOFFSETFROM:+0200
TZOFFSETTO:+0100
TZNAME:CET
DTSTART:20241027T010000
END:STANDARD
BEGIN:DAYLIGHT
TZOFFSETFROM:+0100
TZOFFSETTO:+0200
TZNAME:CEST
DTSTART:20250330T010000
END:DAYLIGHT
BEGIN:STANDARD
TZOFFSETFROM:+0200
TZOFFSETTO:+0100
TZNAME:CET
DTSTART:20251026T010000
END:STANDARD
BEGIN:DAYLIGHT
TZOFFSETFROM:+0100
TZOFFSETTO:+0200
TZNAME:CEST
DTSTART:20260329T010000
END:DAYLIGHT
BEGIN:STANDARD
TZOFFSETFROM:+0200
TZOFFSETTO:+0100
TZNAME:CET
DTSTART:20261025T010000
END:STANDARD
END:VTIMEZONE
BEGIN:VEVENT
DTSTART;TZID=Europe/Paris:20250707T080000
DTEND;TZID=Europe/Paris:20250710T170000
DTSTAMP:20260421T134552
CREATED:20250619T054424Z
LAST-MODIFIED:20250702T201911Z
UID:6146-1751875200-1752166800@ictt.univ-avignon.fr
SUMMARY:École d'été\, Festival d'Avignon
DESCRIPTION:Cette première école d’été internationale propose aux chercheurs\, étudiants de master et doctorants d’interroger\, au plus près des archives et des performances\, “l’agentivité” des lieux de spectacle\, leur capacité à interagir avec la représentation. \nProgramme-ecole-ete-Voir-avec-les-lieux-ed-2025
URL:https://ictt.univ-avignon.fr/evenement/ecole-dete-festival-davignon/
END:VEVENT
BEGIN:VEVENT
DTSTART;TZID=Europe/Paris:20250712T150000
DTEND;TZID=Europe/Paris:20250712T170000
DTSTAMP:20260421T134552
CREATED:20250709T152414Z
LAST-MODIFIED:20250709T152414Z
UID:6164-1752332400-1752339600@ictt.univ-avignon.fr
SUMMARY:Table ronde / doctorant.e.s ICTT à la Maison Jean Vilar
DESCRIPTION:Chères toutes\, chers tous\, \n\nDans le cadre du Festival d’Avignon\, nous avons le plaisir de vous inviter à une table ronde consacrée à la recherche-création réunissant trois doctorant.e.s du laboratoire ICTT : \n💃Valentina Citterio\,🎭 Sam Cornu\, \n🔊 Camille Protar. \n\nÀ travers leurs pratiques mêlant mise en scène\, art sonore\, danse contemporaine et écriture dramatique\, ils et elles partageront leurs démarches respectives\, les croisements entre création et recherche et les enjeux de leurs travaux en cours. \n\nLa rencontre sera animée par Jean-Baptiste Raze\, conservateur de l’antenne BnF à la Maison Jean-Vilar. \n\n📍 Maison Jean Vilar – Avignon🗓️ Samedi 12 juillet à 15h \nEntrée libre sur réservation : accueil@maisonjeanvilar.org  \n\nNous vous attendons nombreuses et nombreux ! \n\nPour plus d’informations : Maison Jean Vilar / BnF
URL:https://ictt.univ-avignon.fr/evenement/table-ronde-doctorant-e-s-ictt-a-la-maison-jean-vilar/
END:VEVENT
END:VCALENDAR