BEGIN:VCALENDAR
VERSION:2.0
PRODID:-//ICTT - ECPv6.15.17.1//NONSGML v1.0//EN
CALSCALE:GREGORIAN
METHOD:PUBLISH
X-WR-CALNAME:ICTT
X-ORIGINAL-URL:https://ictt.univ-avignon.fr
X-WR-CALDESC:Évènements pour ICTT
REFRESH-INTERVAL;VALUE=DURATION:PT1H
X-Robots-Tag:noindex
X-PUBLISHED-TTL:PT1H
BEGIN:VTIMEZONE
TZID:Europe/Paris
BEGIN:DAYLIGHT
TZOFFSETFROM:+0100
TZOFFSETTO:+0200
TZNAME:CEST
DTSTART:20240331T010000
END:DAYLIGHT
BEGIN:STANDARD
TZOFFSETFROM:+0200
TZOFFSETTO:+0100
TZNAME:CET
DTSTART:20241027T010000
END:STANDARD
BEGIN:DAYLIGHT
TZOFFSETFROM:+0100
TZOFFSETTO:+0200
TZNAME:CEST
DTSTART:20250330T010000
END:DAYLIGHT
BEGIN:STANDARD
TZOFFSETFROM:+0200
TZOFFSETTO:+0100
TZNAME:CET
DTSTART:20251026T010000
END:STANDARD
BEGIN:DAYLIGHT
TZOFFSETFROM:+0100
TZOFFSETTO:+0200
TZNAME:CEST
DTSTART:20260329T010000
END:DAYLIGHT
BEGIN:STANDARD
TZOFFSETFROM:+0200
TZOFFSETTO:+0100
TZNAME:CET
DTSTART:20261025T010000
END:STANDARD
END:VTIMEZONE
BEGIN:VEVENT
DTSTART;TZID=Europe/Paris:20251016T160000
DTEND;TZID=Europe/Paris:20251017T120000
DTSTAMP:20260419T144744
CREATED:20250926T124148Z
LAST-MODIFIED:20250926T124148Z
UID:6176-1760630400-1760702400@ictt.univ-avignon.fr
SUMMARY:Projection-débat: Women on the Move
DESCRIPTION:Les 16 et 17 octobre 2025 nous aurons le plaisir de recevoir Marie Ruiz (MCF Civilisation britannique) et Sean Binder (avocat humanitaire)\, pour la présentation du film Women on the Move et pour une conférence-débat au sujet des mouvements de populations et de la politique frontalière de l’Union Européenne. \nLa manifestation du 16 s’adresse en priorité aux étudiants politistes (SPEG) et aura lieu en AT04 entre 16h et 19h. \nCelle du 17 s’adresse en priorité aux étudiants en master (TCMN\, Traduction\, FLE) ainsi qu’à tout membre du labo ou public intéressé. Elle aura lieu en 2E02 entre 9h et 12h.
URL:https://ictt.univ-avignon.fr/evenement/projection-debat-women-on-the-move/
END:VEVENT
BEGIN:VEVENT
DTSTART;TZID=Europe/Paris:20251017T140000
DTEND;TZID=Europe/Paris:20251017T160000
DTSTAMP:20260419T144744
CREATED:20251015T182759Z
LAST-MODIFIED:20251015T182759Z
UID:6201-1760709600-1760716800@ictt.univ-avignon.fr
SUMMARY:Circulations théâtrales: le rôle des agentes. Conférence en ligne de Marianne Bouchardon.
DESCRIPTION:« Circulations théâtrales : le rôle des agentes »\, le vendredi 17 octobre de 14h à 16h\, sur BBB. Nous aurons le plaisir d’écouter Marianne Bouchardon (Université La Sorbonne) pour une conférence intitulée « Suzanne Lalique\, décoratrice et costumière à la Comédie-Française : l’invention d’un style qui s’exporte ». \nhttps://bbb.univ-avignon.fr/rooms/txo-fyd-5sy-ntg/join \nSuzanne Lalique\, décoratrice et costumière à la Comédie-Française : \nl’invention d’un style qui s’exporte \n  \nDe sa longue expérience de décoratrice d’intérieur au sein de l’entreprise familiale\, Suzanne Lalique retire une polyvalence qui lui permet\, à son entrée à la Comédie-Française en 1937\, de prendre la direction à la fois des ateliers de décors et des ateliers de costume. En coordonnant les différents corps de métiers\, elle parvient à imposer à la Maison de Molière\, pendant plus de trente ans\, un style\, dont on verra qu’il favorise aussi bien l’importation de Pirandello en France que l’exportation de Molière en Russie et aux États-Unis.  \n  \nMarianne Bouchardon\, PR de littérature à la Sorbonne\, est spécialiste de l’histoire et de la théorie du théâtre du second XIXe siècle au XXIe siècle. Ses recherches portent notamment sur la poétique du drame moderne et contemporain\, l’histoire de la mise en scène et la critique dramatique. Outre diverses éditions de textes (Henry Becque\, Émile Zola\, Villiers de l’Isle-Adam)\, elle a publié chez Eurédit un essai intitulé Une histoire d’œil. La critique dramatique face à la mise en scène (1870-1914) et mis en ligne sur le site Dezède un répertoire des critiques dramatiques dans la presse et les revues. Mais elle s’intéresse aussi\, plus généralement\, aux rapports entre création et critique\, qu’interrogent trois ouvrages collectifs qu’elle a co-dirigés : L’Ombre dans l’œuvre. La critique dans l’œuvre littéraire (Classiques Garnier\, 2015) et L’Œuvre inclassable (Publications numériques du CÉRÉdI\, 2016)\, La Critique culturelle sur internet (Presses Universitaires de Caen\, 2026).
URL:https://ictt.univ-avignon.fr/evenement/circulations-theatrales-le-role-des-agentes-conference-en-ligne-de-marianne-bouchardon/
END:VEVENT
BEGIN:VEVENT
DTSTART;TZID=Europe/Paris:20251021T130000
DTEND;TZID=Europe/Paris:20251021T143000
DTSTAMP:20260419T144744
CREATED:20250926T123034Z
LAST-MODIFIED:20250926T123034Z
UID:6170-1761051600-1761057000@ictt.univ-avignon.fr
SUMMARY:Conseil de laboratoire
DESCRIPTION:Conseil de laboratoire
URL:https://ictt.univ-avignon.fr/evenement/conseil-de-laboratoire-2/
END:VEVENT
END:VCALENDAR